BEGIN:VCALENDAR
VERSION:2.0
PRODID:-//ANMDMR - ECPv6.15.20//NONSGML v1.0//EN
CALSCALE:GREGORIAN
METHOD:PUBLISH
X-WR-CALNAME:ANMDMR
X-ORIGINAL-URL:https://www.anm.ro
X-WR-CALDESC:Events for ANMDMR
REFRESH-INTERVAL;VALUE=DURATION:PT1H
X-Robots-Tag:noindex
X-PUBLISHED-TTL:PT1H
BEGIN:VTIMEZONE
TZID:Europe/Bucharest
BEGIN:DAYLIGHT
TZOFFSETFROM:+0200
TZOFFSETTO:+0300
TZNAME:EEST
DTSTART:20240331T010000
END:DAYLIGHT
BEGIN:STANDARD
TZOFFSETFROM:+0300
TZOFFSETTO:+0200
TZNAME:EET
DTSTART:20241027T010000
END:STANDARD
BEGIN:DAYLIGHT
TZOFFSETFROM:+0200
TZOFFSETTO:+0300
TZNAME:EEST
DTSTART:20250330T010000
END:DAYLIGHT
BEGIN:STANDARD
TZOFFSETFROM:+0300
TZOFFSETTO:+0200
TZNAME:EET
DTSTART:20251026T010000
END:STANDARD
BEGIN:DAYLIGHT
TZOFFSETFROM:+0200
TZOFFSETTO:+0300
TZNAME:EEST
DTSTART:20260329T010000
END:DAYLIGHT
BEGIN:STANDARD
TZOFFSETFROM:+0300
TZOFFSETTO:+0200
TZNAME:EET
DTSTART:20261025T010000
END:STANDARD
BEGIN:DAYLIGHT
TZOFFSETFROM:+0200
TZOFFSETTO:+0300
TZNAME:EEST
DTSTART:20270328T010000
END:DAYLIGHT
BEGIN:STANDARD
TZOFFSETFROM:+0300
TZOFFSETTO:+0200
TZNAME:EET
DTSTART:20271031T010000
END:STANDARD
END:VTIMEZONE
BEGIN:VEVENT
DTSTART;VALUE=DATE:20250611
DTEND;VALUE=DATE:20250614
DTSTAMP:20260420T095520
CREATED:20250611T101907Z
LAST-MODIFIED:20250611T101907Z
UID:24208-1749603600-1749776399@www.anm.ro
SUMMARY:Management Board European Medicines Agency
DESCRIPTION:
URL:https://www.anm.ro/comunicare/management-board-european-medicines-agency/
END:VEVENT
BEGIN:VEVENT
DTSTART;VALUE=DATE:20250625
DTEND;VALUE=DATE:20250627
DTSTAMP:20260420T095520
CREATED:20250611T101959Z
LAST-MODIFIED:20250611T102830Z
UID:24210-1750813200-1750899599@www.anm.ro
SUMMARY:EMA’s 30th anniversary scientific conference - Medicines\, regulation and the future
DESCRIPTION:
URL:https://www.anm.ro/comunicare/emas-30th-anniversary-scientific-conference-medicines-regulation-and-the-future/
END:VEVENT
BEGIN:VEVENT
DTSTART;VALUE=DATE:20250701
DTEND;VALUE=DATE:20250703
DTSTAMP:20260420T095520
CREATED:20250701T113300Z
LAST-MODIFIED:20250701T113300Z
UID:24388-1751331600-1751417999@www.anm.ro
SUMMARY:ALLCAN
DESCRIPTION:
URL:https://www.anm.ro/comunicare/allcan/
END:VEVENT
BEGIN:VEVENT
DTSTART;VALUE=DATE:20250702
DTEND;VALUE=DATE:20250704
DTSTAMP:20260420T095520
CREATED:20250611T102349Z
LAST-MODIFIED:20250611T102849Z
UID:24218-1751418000-1751504399@www.anm.ro
SUMMARY:ARPIM
DESCRIPTION:
URL:https://www.anm.ro/comunicare/arpim-3/
END:VEVENT
BEGIN:VEVENT
DTSTART;VALUE=DATE:20250703
DTEND;VALUE=DATE:20250705
DTSTAMP:20260420T095520
CREATED:20250701T113314Z
LAST-MODIFIED:20250701T113314Z
UID:24390-1751504400-1751590799@www.anm.ro
SUMMARY:RASCI
DESCRIPTION:
URL:https://www.anm.ro/comunicare/rasci-2/
END:VEVENT
BEGIN:VEVENT
DTSTART;VALUE=DATE:20250724
DTEND;VALUE=DATE:20250726
DTSTAMP:20260420T095520
CREATED:20250724T115852Z
LAST-MODIFIED:20250724T115852Z
UID:24656-1753318800-1753405199@www.anm.ro
SUMMARY:Hub de Inovație Platforma de Studii clinice
DESCRIPTION:
URL:https://www.anm.ro/comunicare/hub-de-inovatie-platforma-de-studii-clinice/
END:VEVENT
BEGIN:VEVENT
DTSTART;VALUE=DATE:20251002
DTEND;VALUE=DATE:20251004
DTSTAMP:20260420T095520
CREATED:20251002T092047Z
LAST-MODIFIED:20251002T092047Z
UID:25312-1759366800-1759453199@www.anm.ro
SUMMARY:Management Board European Medicines Agency
DESCRIPTION:
URL:https://www.anm.ro/comunicare/management-board-european-medicines-agency-2/
END:VEVENT
BEGIN:VEVENT
DTSTART;VALUE=DATE:20251203
DTEND;VALUE=DATE:20251205
DTSTAMP:20260420T095520
CREATED:20251204T084944Z
LAST-MODIFIED:20251204T084944Z
UID:25684-1764723600-1764809999@www.anm.ro
SUMMARY:Lansare Platformă Studii Clinice
DESCRIPTION:
URL:https://www.anm.ro/comunicare/lansare-platforma-studii-clinice/
END:VEVENT
BEGIN:VEVENT
DTSTART;VALUE=DATE:20251216
DTEND;VALUE=DATE:20251221
DTSTAMP:20260420T095520
CREATED:20251204T085229Z
LAST-MODIFIED:20251204T085229Z
UID:25687-1765846800-1766192399@www.anm.ro
SUMMARY:Management Board European Medicines Agency
DESCRIPTION:
URL:https://www.anm.ro/comunicare/management-board-european-medicines-agency-3/
END:VEVENT
BEGIN:VEVENT
DTSTART;VALUE=DATE:20260204
DTEND;VALUE=DATE:20260206
DTSTAMP:20260420T095520
CREATED:20260127T134428Z
LAST-MODIFIED:20260127T134428Z
UID:25947-1770166800-1770253199@www.anm.ro
SUMMARY:FABC
DESCRIPTION:
URL:https://www.anm.ro/comunicare/fabc/
END:VEVENT
BEGIN:VEVENT
DTSTART;VALUE=DATE:20260220
DTEND;VALUE=DATE:20260222
DTSTAMP:20260420T095520
CREATED:20260127T134130Z
LAST-MODIFIED:20260127T134130Z
UID:25940-1771549200-1771635599@www.anm.ro
SUMMARY:Heads of Medicines Agencies (HMA) Meeting
DESCRIPTION:
URL:https://www.anm.ro/comunicare/heads-of-medicines-agencies-hma-meeting-4/
END:VEVENT
BEGIN:VEVENT
DTSTART;VALUE=DATE:20260223
DTEND;VALUE=DATE:20260225
DTSTAMP:20260420T095520
CREATED:20260127T134210Z
LAST-MODIFIED:20260127T134319Z
UID:25943-1771808400-1771894799@www.anm.ro
SUMMARY:Executive Steering Group on Shortages and Safety of Medicinal Products (MSSG)
DESCRIPTION:
URL:https://www.anm.ro/comunicare/executive-steering-group-on-shortages-and-safety-of-medicinal-products-mssg-8/
END:VEVENT
BEGIN:VEVENT
DTSTART;VALUE=DATE:20260306
DTEND;VALUE=DATE:20260308
DTSTAMP:20260420T095520
CREATED:20260219T140419Z
LAST-MODIFIED:20260219T140419Z
UID:26097-1772758800-1772845199@www.anm.ro
SUMMARY:European Medicines Verification System Forum
DESCRIPTION:
URL:https://www.anm.ro/comunicare/european-medicines-verification-system-forum/
END:VEVENT
BEGIN:VEVENT
DTSTART;VALUE=DATE:20260324
DTEND;VALUE=DATE:20260326
DTSTAMP:20260420T095520
CREATED:20260226T100631Z
LAST-MODIFIED:20260226T100631Z
UID:26141-1774314000-1774400399@www.anm.ro
SUMMARY:Conferința “Siguranța pacientului\, prin siguranța medicamentelor”
DESCRIPTION:
URL:https://www.anm.ro/comunicare/conferinta-siguranta-pacientului-prin-siguranta-medicamentelor/
END:VEVENT
END:VCALENDAR