BEGIN:VCALENDAR
VERSION:2.0
PRODID:-//ANMDMR - ECPv6.15.20//NONSGML v1.0//EN
CALSCALE:GREGORIAN
METHOD:PUBLISH
X-WR-CALNAME:ANMDMR
X-ORIGINAL-URL:https://www.anm.ro
X-WR-CALDESC:Events for ANMDMR
REFRESH-INTERVAL;VALUE=DURATION:PT1H
X-Robots-Tag:noindex
X-PUBLISHED-TTL:PT1H
BEGIN:VTIMEZONE
TZID:Europe/Bucharest
BEGIN:DAYLIGHT
TZOFFSETFROM:+0200
TZOFFSETTO:+0300
TZNAME:EEST
DTSTART:20230326T010000
END:DAYLIGHT
BEGIN:STANDARD
TZOFFSETFROM:+0300
TZOFFSETTO:+0200
TZNAME:EET
DTSTART:20231029T010000
END:STANDARD
BEGIN:DAYLIGHT
TZOFFSETFROM:+0200
TZOFFSETTO:+0300
TZNAME:EEST
DTSTART:20240331T010000
END:DAYLIGHT
BEGIN:STANDARD
TZOFFSETFROM:+0300
TZOFFSETTO:+0200
TZNAME:EET
DTSTART:20241027T010000
END:STANDARD
BEGIN:DAYLIGHT
TZOFFSETFROM:+0200
TZOFFSETTO:+0300
TZNAME:EEST
DTSTART:20250330T010000
END:DAYLIGHT
BEGIN:STANDARD
TZOFFSETFROM:+0300
TZOFFSETTO:+0200
TZNAME:EET
DTSTART:20251026T010000
END:STANDARD
END:VTIMEZONE
BEGIN:VEVENT
DTSTART;VALUE=DATE:20240124
DTEND;VALUE=DATE:20240126
DTSTAMP:20260419T175836
CREATED:20231221T121137Z
LAST-MODIFIED:20231221T121137Z
UID:20256-1706058000-1706144399@www.anm.ro
SUMMARY:Heads of Medicines Agencies (HMA) Meeting
DESCRIPTION:
URL:https://www.anm.ro/comunicare/heads-of-medicines-agencies-hma-meeting-2/
END:VEVENT
BEGIN:VEVENT
DTSTART;VALUE=DATE:20240131
DTEND;VALUE=DATE:20240202
DTSTAMP:20260419T175836
CREATED:20240115T092812Z
LAST-MODIFIED:20240115T092812Z
UID:20318-1706662800-1706749199@www.anm.ro
SUMMARY:Heads of HTA Meeting
DESCRIPTION:
URL:https://www.anm.ro/comunicare/heads-of-hta-meeting/
END:VEVENT
END:VCALENDAR